BEGIN:VCALENDAR
VERSION:2.0
PRODID:-//wp-events-plugin.com//6.6.4.4//EN
BEGIN:VEVENT
UID:52@alte-baeckerei.at
DTSTART:20240312T153000Z
DTEND:20240312T163000Z
DTSTAMP:20240308T135118Z
URL:https://alte-baeckerei.at/alle-veranstaltungen/mini-malen-fuer-kinder-
 von-2-bis-4-jahren-maerz/
SUMMARY:Mini malen – für Kinder von 2 bis 4 Jahren – März
DESCRIPTION:Nun dürfen auch die jüngsten Künstler*innen Pinsel & Farbe e
 ntdecken! Für Kinder von 2 bis 4 Jahren in Begleitung darf nun künstleri
 sch experimentiert werden.
ATTACH;FMTTYPE=image/jpeg:https://alte-baeckerei.at/wp-content/uploads/202
 3/12/Bildschirmfoto-2024-03-08-um-14.49.42-e1709906164256.png
CATEGORIES:Mini malen
LOCATION:Atelier in der alten Bäckerei\, Kuferzeile 43\, 4810 Gmunden\, Ö
 sterreich
X-APPLE-STRUCTURED-LOCATION;VALUE=URI;X-ADDRESS=Kuferzeile 43\, 4810 Gmunde
 n\, Österreich;X-APPLE-RADIUS=100;X-TITLE=Atelier in der alten Bäckerei:
 geo:0,0
END:VEVENT
END:VCALENDAR