BEGIN:VCALENDAR
VERSION:2.0
PRODID:-//wp-events-plugin.com//6.6.4.4//EN
BEGIN:VEVENT
UID:80@alte-baeckerei.at
DTSTART;TZID=Europe/Vienna:20240611T153000
DTEND;TZID=Europe/Vienna:20240611T163000
DTSTAMP:20240415T114037Z
URL:https://alte-baeckerei.at/alle-veranstaltungen/mini-malen-fuer-kinder-
 von-2-bis-4-jahren-juni/
SUMMARY:Mini malen – für Kinder von 2 bis 4 Jahren – Juni
DESCRIPTION:Nun dürfen auch die jüngsten Künstler*innen Pinsel & Farbe e
 ntdecken! Für Kinder von 2 bis 4 Jahren in Begleitung darf nun künstleri
 sch experimentiert werden.
ATTACH;FMTTYPE=image/jpeg:https://alte-baeckerei.at/wp-content/uploads/202
 3/12/Bildschirmfoto-2024-03-08-um-14.49.42-e1709906164256.png
CATEGORIES:Mini malen
LOCATION:Atelier in der alten Bäckerei\, Kuferzeile 43\, 4810 Gmunden\, Ö
 sterreich
X-APPLE-STRUCTURED-LOCATION;VALUE=URI;X-ADDRESS=Kuferzeile 43\, 4810 Gmunde
 n\, Österreich;X-APPLE-RADIUS=100;X-TITLE=Atelier in der alten Bäckerei:
 geo:0,0
END:VEVENT
BEGIN:VTIMEZONE
TZID:Europe/Vienna
X-LIC-LOCATION:Europe/Vienna
BEGIN:DAYLIGHT
DTSTART:20240331T030000
TZOFFSETFROM:+0100
TZOFFSETTO:+0200
TZNAME:CEST
END:DAYLIGHT
END:VTIMEZONE
END:VCALENDAR