BEGIN:VCALENDAR
VERSION:2.0
PRODID:-//wp-events-plugin.com//6.6.4.4//EN
BEGIN:VEVENT
UID:10@alte-baeckerei.at
DTSTART:20231128T183000Z
DTEND:20231128T200000Z
DTSTAMP:20231123T081720Z
URL:https://alte-baeckerei.at/alle-veranstaltungen/kreativwerkstatt-lines-
 and-shapes/
SUMMARY:Kreativwerkstatt – Lines and Shapes
DESCRIPTION:Keine Sorge- das ist kein Mathematikkurs! Heute entdecken wir d
 ie (versteckten) Formen und Linien in künstlerischen Motiven\, interpreti
 eren sie neu und erschaffen damit eigene Kunstwerke.
ATTACH;FMTTYPE=image/jpeg:https://alte-baeckerei.at/wp-content/uploads/202
 3/09/lines-shapes-e1698738264836.jpeg
CATEGORIES:Kreativwerkstatt
LOCATION:Atelier in der alten Bäckerei\, Kuferzeile 43\, 4810 Gmunden\, Ö
 sterreich
X-APPLE-STRUCTURED-LOCATION;VALUE=URI;X-ADDRESS=Kuferzeile 43\, 4810 Gmunde
 n\, Österreich;X-APPLE-RADIUS=100;X-TITLE=Atelier in der alten Bäckerei:
 geo:0,0
END:VEVENT
END:VCALENDAR