BEGIN:VCALENDAR
VERSION:2.0
PRODID:-//wp-events-plugin.com//6.6.4.4//EN
BEGIN:VEVENT
UID:11@alte-baeckerei.at
DTSTART:20231121T183000Z
DTEND:20231121T194500Z
DTSTAMP:20231119T153531Z
URL:https://alte-baeckerei.at/alle-veranstaltungen/kreativwerkstatt-creati
 ve-unblock/
SUMMARY:Kreativwerkstatt – Creative Unblock
DESCRIPTION:Kreativwerkstatt – Creative Unblock\nDu denkst du kannst nich
 t malen? Du bist gerne kreativ\, hast aber einfach keine Ideen? Du sitzt v
 or dem weißen Blatt Papier und weißt nicht weiter? Dann bist du hier gen
 au richtig. Hier kannst du die Freude am kreativen Schaffen ohne Druck (ne
 u) erleben.
ATTACH;FMTTYPE=image/jpeg:https://alte-baeckerei.at/wp-content/uploads/202
 3/09/Creative-Unblock-e1696590867397.jpeg
CATEGORIES:Kreativwerkstatt
LOCATION:Atelier in der alten Bäckerei\, Kuferzeile 43\, 4810 Gmunden\, Ö
 sterreich
X-APPLE-STRUCTURED-LOCATION;VALUE=URI;X-ADDRESS=Kuferzeile 43\, 4810 Gmunde
 n\, Österreich;X-APPLE-RADIUS=100;X-TITLE=Atelier in der alten Bäckerei:
 geo:0,0
END:VEVENT
END:VCALENDAR