BEGIN:VCALENDAR
VERSION:2.0
PRODID:-//wp-events-plugin.com//6.6.4.4//EN
BEGIN:VEVENT
UID:74@alte-baeckerei.at
DTSTART;TZID=Europe/Vienna:20240611T183000
DTEND;TZID=Europe/Vienna:20240702T200000
DTSTAMP:20240410T083628Z
URL:https://alte-baeckerei.at/alle-veranstaltungen/kreativwerkstatt-block-
 b-pinsel-juni24/
SUMMARY:Kreativwerkstatt Block F: Pinsel
DESCRIPTION:Kreativwerkstatt Block F Termine:\n\nDi.\, 11.06.2024 | 18:30 
 – 20:00\nDi.\, 18.06.2024 | 18:30 – 20:00\nDi.\, 25.06.2024 | 18:30 
 – 20:00\nDi.\, 02.07.2024 | 18:30 – 20:00
ATTACH;FMTTYPE=image/jpeg:https://alte-baeckerei.at/wp-content/uploads/202
 3/11/Bildschirmfoto-2023-11-16-um-12.11.15.png
CATEGORIES:Kreativwerkstatt
LOCATION:Atelier in der alten Bäckerei\, Kuferzeile 43\, 4810 Gmunden\, Ö
 sterreich
X-APPLE-STRUCTURED-LOCATION;VALUE=URI;X-ADDRESS=Kuferzeile 43\, 4810 Gmunde
 n\, Österreich;X-APPLE-RADIUS=100;X-TITLE=Atelier in der alten Bäckerei:
 geo:0,0
END:VEVENT
BEGIN:VTIMEZONE
TZID:Europe/Vienna
X-LIC-LOCATION:Europe/Vienna
BEGIN:DAYLIGHT
DTSTART:20240331T030000
TZOFFSETFROM:+0100
TZOFFSETTO:+0200
TZNAME:CEST
END:DAYLIGHT
END:VTIMEZONE
END:VCALENDAR