BEGIN:VCALENDAR
VERSION:2.0
PRODID:-//wp-events-plugin.com//6.6.4.4//EN
BEGIN:VEVENT
UID:120@alte-baeckerei.at
DTSTART;TZID=Europe/Vienna:20250924T180000
DTEND;TZID=Europe/Vienna:20250924T193000
DTSTAMP:20250914T085039Z
URL:https://alte-baeckerei.at/alle-veranstaltungen/kreativwerkstatt-24-9/
SUMMARY:Kreativwerkstatt
DESCRIPTION:Hier geht es nicht um das Endergebnis\, sondern um den Weg: dur
 ch spannende Übungen\, Techniken und mit einer Vielzahl von Materialien\,
  die du ausprobieren kannst. Du wirst lernen\, deinen inneren Kritiker anz
 unehmen und den kreativen Fluss zuzulassen – ganz im Einklang mit deiner
  eigenen Persönlichkeit und Individualität.
ATTACH;FMTTYPE=image/jpeg:https://alte-baeckerei.at/wp-content/uploads/202
 3/12/Bildschirmfoto-2023-12-20-um-14.17.37.png
CATEGORIES:Kreativwerkstatt
LOCATION:Atelier in der alten Bäckerei\, Kuferzeile 43\, 4810 Gmunden\, Ö
 sterreich
X-APPLE-STRUCTURED-LOCATION;VALUE=URI;X-ADDRESS=Kuferzeile 43\, 4810 Gmunde
 n\, Österreich;X-APPLE-RADIUS=100;X-TITLE=Atelier in der alten Bäckerei:
 geo:0,0
END:VEVENT
BEGIN:VTIMEZONE
TZID:Europe/Vienna
X-LIC-LOCATION:Europe/Vienna
BEGIN:DAYLIGHT
DTSTART:20250330T030000
TZOFFSETFROM:+0100
TZOFFSETTO:+0200
TZNAME:CEST
END:DAYLIGHT
END:VTIMEZONE
END:VCALENDAR