BEGIN:VCALENDAR
VERSION:2.0
PRODID:-//wp-events-plugin.com//6.6.4.4//EN
BEGIN:VEVENT
UID:48@alte-baeckerei.at
DTSTART:20240228T183000Z
DTEND:20240228T200000Z
DTSTAMP:20240223T134155Z
URL:https://alte-baeckerei.at/alle-veranstaltungen/hier-koennen-alle-zeich
 nen-termin-im-februar/
SUMMARY:Hier können alle zeichnen – Termin im Februar
DESCRIPTION:"Hier können alle zeichnen" – unter diesem Motto steht hier 
 die Freude am kreativen Prozess im Vordergrund\, losgelöst von Ergebnisdr
 uck oder Bewertung. Mit gezielte Anregungen und kreative Aufgaben begleite
 n wir dich auf dem Weg deine Sinne zu schärfen und deine künstlerische A
 der (wieder) zu wecken.
ATTACH;FMTTYPE=image/jpeg:https://alte-baeckerei.at/wp-content/uploads/202
 3/12/Bildschirmfoto-2023-12-20-um-14.17.37.png
CATEGORIES:Kreativwerkstatt
LOCATION:Atelier in der alten Bäckerei\, Kuferzeile 43\, 4810 Gmunden\, Ö
 sterreich
X-APPLE-STRUCTURED-LOCATION;VALUE=URI;X-ADDRESS=Kuferzeile 43\, 4810 Gmunde
 n\, Österreich;X-APPLE-RADIUS=100;X-TITLE=Atelier in der alten Bäckerei:
 geo:0,0
END:VEVENT
END:VCALENDAR