BEGIN:VCALENDAR
VERSION:2.0
PRODID:-//wp-events-plugin.com//6.6.4.4//EN
BEGIN:VEVENT
UID:29@alte-baeckerei.at
DTSTART:20240109T183000Z
DTEND:20240130T200000Z
DTSTAMP:20231207T182338Z
URL:https://alte-baeckerei.at/alle-veranstaltungen/erster-block/
SUMMARY:Kreativwerkstatt Block A: Sketchbook
DESCRIPTION:Beginne das neue Jahr kreativ! Binde dir gemeinsam mit uns ein 
 eigenes Sketchbook\, in dem du deinen kreativen Prozess festhalten kannst.
  Im Laufe der vier gemeinsamen Abende werden wir einige Seiten deines Sket
 chbooks gemeinsam füllen.
ATTACH;FMTTYPE=image/jpeg:https://alte-baeckerei.at/wp-content/uploads/202
 3/11/Bildschirmfoto-2023-11-16-um-11.38.44-e1700131265620.png
CATEGORIES:Kreativwerkstatt
LOCATION:Atelier in der alten Bäckerei\, Kuferzeile 43\, 4810 Gmunden\, Ö
 sterreich
X-APPLE-STRUCTURED-LOCATION;VALUE=URI;X-ADDRESS=Kuferzeile 43\, 4810 Gmunde
 n\, Österreich;X-APPLE-RADIUS=100;X-TITLE=Atelier in der alten Bäckerei:
 geo:0,0
END:VEVENT
END:VCALENDAR