BEGIN:VCALENDAR
VERSION:2.0
PRODID:-//wp-events-plugin.com//6.6.4.4//EN
BEGIN:VEVENT
UID:26@alte-baeckerei.at
DTSTART:20240126T160000Z
DTEND:20240126T190000Z
DTSTAMP:20240108T072659Z
URL:https://alte-baeckerei.at/alle-veranstaltungen/creative-flow-aquarell-
 fuer-einsteiger-2/
SUMMARY:Creative Flow: Aquarell für Einsteiger
DESCRIPTION:In unserem dreistündigen Workshop tauchen wir gemeinsam ein in
  die zauberhafte Welt des Aquarells. Heike Hufnagl\, eine Meisterin dieser
  Technik\, wird dir mit Leidenschaft und Fachwissen zur Seite stehen und d
 ir die Geheimnisse dieser besonderen Kunstform näherbringen.
ATTACH;FMTTYPE=image/jpeg:https://alte-baeckerei.at/wp-content/uploads/202
 3/09/IMG_9551-scaled.jpeg
CATEGORIES:Workshop
LOCATION:Atelier in der alten Bäckerei\, Kuferzeile 43\, 4810 Gmunden\, Ö
 sterreich
X-APPLE-STRUCTURED-LOCATION;VALUE=URI;X-ADDRESS=Kuferzeile 43\, 4810 Gmunde
 n\, Österreich;X-APPLE-RADIUS=100;X-TITLE=Atelier in der alten Bäckerei:
 geo:0,0
END:VEVENT
END:VCALENDAR