BEGIN:VCALENDAR
VERSION:2.0
PRODID:-//wp-events-plugin.com//6.6.4.4//EN
BEGIN:VEVENT
UID:4@alte-baeckerei.at
DTSTART:20231114T183000Z
DTEND:20231114T194500Z
DTSTAMP:20231104T180629Z
URL:https://alte-baeckerei.at/alle-veranstaltungen/collage-color/
SUMMARY:Kreativwerkstatt – Collage & Color
DESCRIPTION:Kreativwerkstatt – Collage &amp\; Color\nEs wird bunt! Heute 
 erschaffen wir Kunstwerke aus Papierschnipsel\, alten und neuen Magazinen 
 oder selbst bemalten Kollagenpapier.
ATTACH;FMTTYPE=image/jpeg:https://alte-baeckerei.at/wp-content/uploads/202
 3/09/collage-e1698738162236.jpeg
CATEGORIES:Kreativwerkstatt
LOCATION:Atelier in der alten Bäckerei\, Kuferzeile 43\, 4810 Gmunden\, Ö
 sterreich
X-APPLE-STRUCTURED-LOCATION;VALUE=URI;X-ADDRESS=Kuferzeile 43\, 4810 Gmunde
 n\, Österreich;X-APPLE-RADIUS=100;X-TITLE=Atelier in der alten Bäckerei:
 geo:0,0
END:VEVENT
END:VCALENDAR